BEGIN:VCALENDAR
VERSION:2.0
PRODID:-//hacksw/handcal//NONSGML v1.0//EN
CALSCALE:GREGORIAN
BEGIN:VEVENT
DTSTART:20270320T190000Z
DTEND:20270320T220000Z
SUMMARY:EDOUARD DELOIGNON
DESCRIPTION:Salle Berlioz

J’ai toujours eu cette sensation d’être un peu décalé par rapport aux autres, plus j’avance dans la vie et plus ça se vérifie. Vous savez quoi ? J’ai décidé que c’était OK. Et si on prenait pas les choses au sérieux ?

Avec son énergie, son talent et sa répartie, Edouard vous propose une expérience unique. 1h30 de lâcher prise, pour rire… ensemble !

Edouard Deloignon est LA nouvelle star de l’humour et cumule plus de 150 millions de vues avec ses vidéos.

Auteurs : Edouard Deloignon, Jonathan Demayo

Metteur en scène : Nicolas Vital

A partir de 16 ans
LOCATION:LE CORUM Esplanade Charles De Gaulle, 34000, Montpellier, France
URL:https://www.corum-montpellier.com/fr/agenda/theatre-humour/edouard-deloignon-2027
STATUS:CONFIRMED
GEO:43.614226;3.882576
END:VEVENT
END:VCALENDAR