BEGIN:VCALENDAR
VERSION:2.0
PRODID:-//hacksw/handcal//NONSGML v1.0//EN
CALSCALE:GREGORIAN
BEGIN:VEVENT
DTSTART:20270108T190000Z
DTEND:20270108T220000Z
SUMMARY:ELIES ZOGHLAMI
DESCRIPTION:Salle Pasteur

Altremie, c’est pas dans le dictionnaire, mais c’est un néologisme qui représente le mieux ce dont je vais vous parler.
Altremie, c’est un mélange entre altruisme et remettre ; parce que jusqu’à présent, j’ai toujours remis à plus tard mes envies, pour faire passer les autres en premier. C’est d’ailleurs pour ça que j’ai été infirmier. Je vais te parler de ce parcours justement dans le milieu hospitalier, mais pas que. Altremie, ça définit aussi ce que j’ai parcouru dans mes relations sentimentales, avec mes amis et avec ma famille...

C’est drôle, parfois touchant, souvent les deux.

Tu vas rire, peut-être pleurer, mais surtout, on va passer un vrai moment ensemble. Et cette fois, je le remets pas à plus tard.

> Durée : 70 minutes
> Spectacle interdit au moins de 15 ans
> Co écrit et mis en scène par Wary Nichen
LOCATION:LE CORUM Esplanade Charles De Gaulle, 34000, Montpellier, France
URL:https://www.corum-montpellier.com/fr/agenda/theatre-humour/elies-zoghlami
STATUS:CONFIRMED
GEO:43.614226;3.882576
END:VEVENT
END:VCALENDAR